BEGIN:VCALENDAR
VERSION:2.0
PRODID:-//wp-events-plugin.com//7.2.3.1//EN
TZID:Europe/Berlin
X-WR-TIMEZONE:Europe/Berlin
BEGIN:VEVENT
UID:151@ksg-ger.de
DTSTART:20150510T100000Z
DTEND:20150510T160000Z
DTSTAMP:20150514T153002Z
URL:https://ksg-ger.de/events/damenfahrt-des-pkv/
SUMMARY:Damenfahrt des PKV
DESCRIPTION:Am 10. Mai geht es wie jedes Jahr um die Kaffeekanne. Nachdem i
 n den letzten Jahren das Wetter uns meist einen Strich durch die Rechnung 
 gemacht hat\, wollen wir uns dieses Jahr anschicken als Gruppe mit den mei
 sten Teilnehmern die Kaffekanne nach Germersheim zu holen.\nBuchungsschlus
 s: 09.05.2015 18:00 Uhr
CATEGORIES:Buchung erforderlich,Sonntagspaddeln,Tagesfahrt
LOCATION:Bootshaus KSG Germersheim\, Am Alten Hafen 9\, Germersheim\, 76726
 \, Deutschland
GEO:49.220658;8.381268
X-APPLE-STRUCTURED-LOCATION;VALUE=URI;X-ADDRESS=Am Alten Hafen 9\, Germersh
 eim\, 76726\, Deutschland;X-APPLE-RADIUS=100;X-TITLE=Bootshaus KSG Germers
 heim:geo:49.220658,8.381268
END:VEVENT
END:VCALENDAR