BEGIN:VCALENDAR
VERSION:2.0
PRODID:-//wp-events-plugin.com//7.2.3.1//EN
TZID:Europe/Berlin
X-WR-TIMEZONE:Europe/Berlin
BEGIN:VEVENT
UID:1474@ksg-ger.de
DTSTART:20231214T170000Z
DTEND:20231214T210000Z
DTSTAMP:20231124T173616Z
URL:https://ksg-ger.de/events/jahresabschlusstreffen/
SUMMARY:Jahresabschlusstreffen
DESCRIPTION:gemeinsames Essen in der Pizzeria
ATTACH;FMTTYPE=image/jpeg:https://ksg-ger.de/wp-content/uploads/2017/09/We
 stpfalz-01.jpg
CATEGORIES:Buchung erforderlich,Versammlungen/Feste
LOCATION:Pizzeria Milano\, August-Keiler-Str.\, Germersheim\, Deutschland
X-APPLE-STRUCTURED-LOCATION;VALUE=URI;X-ADDRESS=August-Keiler-Str.\, Germer
 sheim\, Deutschland;X-APPLE-RADIUS=100;X-TITLE=Pizzeria Milano:geo:0,0
END:VEVENT
END:VCALENDAR