BEGIN:VCALENDAR
VERSION:2.0
PRODID:-//wp-events-plugin.com//7.2.3.1//EN
TZID:Europe/Berlin
X-WR-TIMEZONE:Europe/Berlin
BEGIN:VEVENT
UID:1552@ksg-ger.de
DTSTART;VALUE=DATE:20250815
DTEND;VALUE=DATE:20250818
DTSTAMP:20241211T191454Z
URL:https://ksg-ger.de/events/paddelwochenende-djk-sasbach-freistaett-2/
SUMMARY:Paddelwochenende  DJK Sasbach-Freistätt
DESCRIPTION:Erfreulicherweise hat uns die Wassersportgemeinschaft DJK Sasba
 ch-Freistätt erlaubt\, ihr Vereinsgelände zu nutzen.\n\nWir wollen am Sa
 mstag das Groschenwasser ( Auenheimer Altrhein ) und am Sonntag in Frankre
 ich die untere Ill paddeln. Beide Gewässer sind gut befahrbar\, jedoch we
 gen der Verblockung durch Bäume nicht für Anfänger geeignet. Endpunkt d
 er Fahrt ist immer das Bootshaus.\n\nAnfahrt nach Freistätt und Aufbauen 
 der Zelte ist für Freitagabend\, mit gemeinsamen Kochen &amp\; Braten fü
 r Veggies\, Beefies und Flexitarier auf dem Gelände geplant. Am Samstagab
 end brutzeln wir nochmal zusammen. Jeder sollte sich um sein Frühstück u
 nd Vesper kümmern.\n\nDa wir die Fahrzeuge eventuell in Straßburg parken
 \, ist es unbedingt erforderlich\, die französische Umweltplakette rechtz
 eitig zu besorgen! Wenn wir Glück haben\, können wir in Kehl starten und
  werden in Straßburg geschleust.\n\nMitglieder unter 18 Jahren bitte Erla
 ubnis der Eltern mitbringen!\n\nBeide Fahrten sind ausführlich beschriebe
 n bei: „Kanu–Wolf " von Wolf Bresch in „Flussperlen am Oberrhein“\
 n\nMindestteilnehmerzahl: 5 Personen
ATTACH;FMTTYPE=image/jpeg:https://ksg-ger.de/wp-content/uploads/2024/12/Un
 tere-Ill-2024-08-25-009-1-scaled.jpg
CATEGORIES:Buchung erforderlich,Familien,Für Anfänger mit Kondition
END:VEVENT
END:VCALENDAR