BEGIN:VCALENDAR
VERSION:2.0
PRODID:-//wp-events-plugin.com//7.2.3.1//EN
TZID:Europe/Berlin
X-WR-TIMEZONE:Europe/Berlin
BEGIN:VEVENT
UID:1595@ksg-ger.de
DTSTART;TZID=Europe/Berlin:20260506T171500
DTEND;TZID=Europe/Berlin:20260506T211500
DTSTAMP:20260311T140226Z
URL:https://ksg-ger.de/events/schnupperpaddeln-fuer-jedermann-5-2026-05-06
 /
SUMMARY:Schnupperpaddeln für Jedermann
DESCRIPTION:Rein ins Boot\, raus aus dem Alltag!\nUnser monatliches Schnupp
 erpaddeln ist die perfekte Gelegenheit\, den Kanusport ganz unkompliziert 
 auszuprobieren. Jeder kann mitmachen – egal ob sportlich\, neugierig ode
 r einfach naturbegeistert. Einzig Schwimmkenntnisse sind erforderlich. In 
 entspannter Atmosphäre zeigen wir die Grundlagen\, begleiten die ersten P
 addelschläge und lassen erleben\, wie viel Spaß es macht\, auf dem Wasse
 r unterwegs zu sein.\nWo? Treffpunkt ist das Bootshaus der KSG\, Am Alten 
 Hafen 9 (Verlängerung der Straße "Am Unkenfunk"). Dort suchen wir passen
 de Schwimmwesten\, Boote und Paddel für euch aus und fahren nach dem Verl
 aden des Equipments an den Kief (Nachenstation)\, wo ihr gefahrlos aufs Wa
 sser könnt.\n\n\n\nInteresse? Dann schreibe eine Mail an schnupperpaddeln
 @ksg-ger.de und melde dich heute noch an und tauche ein in die Welt des Ka
 nusports! Für jede Veranstaltung können sich maximal 8 Teilnehmer anmeld
 en. Bitte meldet euch ab\, falls ihr verhindert seid\, so dass euer Platz 
 wieder frei wird.\n\n\n\n\n\nWas brauchst du?  Schnelltrocknende Kleidung 
 - Wasserfeste Schuhe - Evtl. Handtuch und Wechselkleidung für danach - Br
 illenträger sollten zur Sicherung ein Brillenband nutzen - Getränke und 
 Anti-Mücken-Spray sind ebenfalls zu empfehlen.\n\n\n\nAus Gründen der Si
 cherheit auf dem Wasser benötigen wir von euch eine ausgefüllte Schnuppe
 rkarte.  Dieses Formular könnt ihr auch bequem auf dem Computer ausfüll
 en. Selbstverständlich liegen die Formulare auch im Bootshaus bereit.\n
ATTACH;FMTTYPE=image/jpeg:https://ksg-ger.de/wp-content/uploads/2020/08/Mi
 ttwochspaddeln-2020-08-05-005-scaled.jpg
CATEGORIES:Öffentliches Event,Schnupperpaddeln
LOCATION:Bootshaus KSG Germersheim\, Am Alten Hafen 9\, Germersheim\, 76726
 \, Deutschland
GEO:49.220658;8.381268
X-APPLE-STRUCTURED-LOCATION;VALUE=URI;X-ADDRESS=Am Alten Hafen 9\, Germersh
 eim\, 76726\, Deutschland;X-APPLE-RADIUS=100;X-TITLE=Bootshaus KSG Germers
 heim:geo:49.220658,8.381268
END:VEVENT
BEGIN:VTIMEZONE
TZID:Europe/Berlin
X-LIC-LOCATION:Europe/Berlin
BEGIN:DAYLIGHT
DTSTART:20260329T030000
TZOFFSETFROM:+0100
TZOFFSETTO:+0200
TZNAME:CEST
END:DAYLIGHT
END:VTIMEZONE
END:VCALENDAR