BEGIN:VCALENDAR
VERSION:2.0
PRODID:-//wp-events-plugin.com//7.2.3.1//EN
TZID:Europe/Berlin
X-WR-TIMEZONE:Europe/Berlin
BEGIN:VEVENT
UID:941@ksg-ger.de
DTSTART;VALUE=DATE:20180722
DTEND;VALUE=DATE:20180723
DTSTAMP:20180716T171451Z
URL:https://ksg-ger.de/events/sonntagspaddeln-2/
SUMMARY:Sonntagspaddeln
DESCRIPTION:Gemütlich den Sonntag "verpaddeln" - Uhrzeit und Gewässer nac
 h Vereinbarung
ATTACH;FMTTYPE=image/jpeg:https://ksg-ger.de/wp-content/uploads/2017/08/Gr
 oschenwasser-10.jpg
CATEGORIES:Buchung erforderlich,Sonntagspaddeln,Tourenpaddeln
END:VEVENT
END:VCALENDAR