BEGIN:VCALENDAR
VERSION:2.0
PRODID:-//wp-events-plugin.com//7.2.3.1//EN
TZID:Europe/Berlin
X-WR-TIMEZONE:Europe/Berlin
BEGIN:VEVENT
UID:934@ksg-ger.de
DTSTART;VALUE=DATE:20180428
DTEND;VALUE=DATE:20180502
DTSTAMP:20180422T113227Z
URL:https://ksg-ger.de/events/wildwasser-fuer-fortgeschrittene/
SUMMARY:Wildwasser für Fortgeschrittene I
DESCRIPTION:Geplant ist wahlweise der Wildwasserkanal in Lyon unter Leitung
  von Uwe Rössler
ATTACH;FMTTYPE=image/jpeg:https://ksg-ger.de/wp-content/uploads/2015/04/Na
 he-2015-04.jpg
CATEGORIES:Buchung erforderlich,Für
 Fortgeschrittene,Jugend,Mehrtagesfahrt,Wildwasser
END:VEVENT
END:VCALENDAR